Workbook

Sheet PLANILHA DE PREÇOS
A1: PLANILHA DE FORMAÇÃO DE PREÇOS
A2: OBJETO: Soluções de acessibilidade audiovisual para suas Sessões do Tribunal Pleno, das Turmas e das Seções Especializadas, em Vídeos Institucionais para a internet e Eventos da Escola Judicial.
A4: GRUPO 01
A5: ITEM | B5: SERVIÇO | C5: UNIDADE RESPONSÁVEL | D5: UNIDADE | E5: QUANTIDADE ESTIMADA | F5: MÉDIA DE PREÇOS PÚBLICOS | G5: PESQUISA 1 | H5: PESQUISA 2 | I5: PESQUISA 3 | J5: PESQUISA 4 | K5: VALOR ESTIMADO UNITÁRIO | L5: VALOR ESTIMADO TOTAL
A6: 1 | B6: Tradução/Interpretação de libras – Simultânea ou Consecutiva Remota | C6: Escola Judicial | D6: HORA (Eventos) | E6: 12 | F6: 179.94 | G6: 600 | H6: 450 | I6: 210 | J6: 187.8 | K6: =AVERAGE(F6,I6,J6) -> 192.58 | L6: =E6*K6 -> 2310.96
A7: 2 | B7: Tradução/Interpretação de libras – Simultânea ou Consecutiva Presencial | C7: Escola Judicial | D7: HORA (Eventos) | E7: 12 | F7: 179.94 | H7: 450 | I7: 320 | J7: 144 | K7: =AVERAGE(F7,J7) -> 161.97 | L7: =E7*K7 -> 1943.64
A8: 3 | B8: Tradução/Interpretação de libras – Simultânea ou Consecutiva Remota | C8: Coordenadoria de Comunicação Social | D8: HORA (Sessões do Tribunal) | E8: 426 | F8: 179.94 | G8: 600 | H8: 600 | I8: 198 | J8: 249.6 | K8: =AVERAGE(F8,I8,J8) -> 209.18 | L8: =E8*K8 -> 89110.68
A9: 4 | B9: Tradução/Interpretação de libras – Simultânea ou Consecutiva Presencial | C9: Coordenadoria de Comunicação Social | D9: HORA (sessões do Tribunal) | E9: 42 | F9: 179.94 | H9: 600 | I9: 295 | J9: 192 | K9: =AVERAGE(F9,J9) -> 185.97 | L9: =E9*K9 -> 7810.74
A10: VALOR DO GRUPO | L10: =SUM(L6:L9) -> 101176.02
E11: =SUM(E6:E9) -> 492
A12: ITENS
A13: ITEM | B13: SERVIÇO | C13: UNIDADE RESPONSÁVEL | D13: UNIDADE | E13: QUANTIDADE ESTIMADA | F13: MÉDIA DE PREÇOS PÚBLICOS | G13: =G5 -> PESQUISA 1 | H13: =H5 -> PESQUISA 2 | I13: =I5 -> PESQUISA 3 | J13: =J5 -> PESQUISA 4 | K13: VALOR ESTIMADO UNITÁRIO | L13: VALOR ESTIMADO TOTAL
A14: 5 | B14: Tradução/Interpretação de libras pré-gravada | C14: Coordenadoria de Comunicação Social | D14: MINUTO | E14: 300 | G14: 38 | H14: 150 | I14: 43 | J14: 60 | K14: =AVERAGE(G14,I14,J14) -> 47 | L14: =E14*K14 -> 14100
A15: 6 | B15: Audiodescrição – pré- gravada (audiovisual) | C15: Coordenadoria de Comunicação Social | D15: MINUTO | E15: 300 | F15: 7.75 | G15: 40 | H15: 150 | I15: 60 | J15: 144 | K15: =AVERAGE(G15,I15) -> 50 | L15: =E15*K15 -> 15000
A16: 7 | B16: Guia-intérprete | C16: Divisão de Cerimonial e Eventos | D16: HORA | E16: 4 | F16: 264.38 | G16: 600 | H16: 600 | I16: 420 | J16: 180 | K16: =AVERAGE(F16,J16) -> 222.19 | L16: =E16*K16 -> 888.76
A17: 8 | B17: Legendagem para surdos pré-gravada (audiovisual) | C17: Coordenadoria de Comunicação Social | D17: MINUTO | E17: 300 | G17: 17 | H17: 40 | I17: 25 | J17: 96 | K17: =AVERAGE(G17,H17,I17) -> 27.333333 | L17: =E17*K17 -> 8200
A19: VALOR TOTAL (GRUPO + ITENS) | L19: =SUM(L10,L14:L17) -> 139364.78
A21: a) A FEBRAPILS (Federação Brasileira das Associações dos Profissionais Tradutores e Intérpretes e Guia-Intérpretes de Lingua Brasileira de Sinais) possui em seu site tabela de referência de honorários, que utilizamos como mais um preço na pesquisa, vista serem valores de referências válidos para todas as associações cadastradas da Federação, com abrangência em todas as regiões do país, além de serem valores abertos ao público interessado, conforme https://febrapils.org.br/lista-de-referencia-de-honorarios/ Os preços considerados foram os das seções indicadas abaixo:
A22: - Item 1 - Seção 1: interpretação simultânea (contextos de conferência) + Seção 4: interpretação simultânea remota (acréscimo de 30% por ser remoto).
A23: - Item 2 - Seção 1: interpretação simultânea (contextos de conferência)
A24: - Item 3 - Seção 1: interpretação simultânea (contextos de audiências jurídicas) + Seção 4: interpretação simultânea remota (acréscimo de 30% por ser remoto).
A25: - Item 4 - Seção 1: interpretação simultânea (contextos de audiências jurídicas)
A26: - Item 5 - Seção 2: interpretação/tradução audiovisual (tradução de vídeo institucional)
A27: - Item 6 - Seção 2: interpretação/tradução audiovisual (tradução e dublagem)
A28: - Item 7 - Seção 6: guia-interpretação simultânea (contextos de conferência)
A29: - Item 8 - Seção 2: interpretação/tradução audiovisual (tradução e legendagem)
A30: b) Não foram localizados preços públicos para todos os itens.
A31: c) Desconsideramos os preços tachados em vermelho por estarem manifestamente divergentes dos demais, ultrapassando a margem de 30%, para mais ou para menos, em relação à média.
A32: d) Para cálculo do valor estimado, realizamos a média simples dos preços considerados válidos.
... A38: Seção de Apoio às Contratações de Bens e Serviços

Sheet ANEXO I 
A1: ANEXO I - VALOR ESTIMADO
A2: OBJETO: Soluções de acessibilidade audiovisual para suas Sessões do Tribunal Pleno, das Turmas e das Seções Especializadas, em Vídeos Institucionais para a internet e Eventos da Escola Judicial.
A3: CATSER: 27928 - SERVIÇOS DE ACESSIBILIDADE À INFORMAÇÃO E À COMUNICAÇÃO.
A4: GRUPO 01
A5: ITEM | B5: SERVIÇO | C5: UNIDADE RESPONSÁVEL | D5: UNIDADE | E5: QUANTIDADE ESTIMADA | F5: MÉDIA DE PREÇOS PÚBLICOS | G5: PREÇO 1 | H5: PREÇO 2 | I5: PREÇO 3 | J5: VALOR ESTIMADO UNITÁRIO | K5: VALOR ESTIMADO TOTAL
A6: 1 | B6: Tradução/Interpretação de libras – Simultânea ou Consecutiva Remota | C6: Escola Judicial | D6: HORA (Eventos) | E6: 12 | F6: 205.2 | J6: ='PLANILHA DE PREÇOS'!K6 -> 192.58 | K6: =E6*F6 -> 2462.4
A7: 2 | B7: Tradução/Interpretação de libras – Simultânea ou Consecutiva Presencial | C7: Escola Judicial | D7: HORA (Eventos) | E7: 12 | F7: 205.2 | J7: ='PLANILHA DE PREÇOS'!K7 -> 161.97 | K7: =E7*F7 -> 2462.4
A8: 3 | B8: Tradução/Interpretação de libras – Simultânea ou Consecutiva Remota | C8: Coordenadoria de Comunicação Social | D8: HORA (Sessões do Tribunal) | E8: 426 | F8: 205.2 | J8: ='PLANILHA DE PREÇOS'!K8 -> 209.18 | K8: =E8*F8 -> 87415.2
A9: 4 | B9: Tradução/Interpretação de libras – Simultânea ou Consecutiva Presencial | C9: Coordenadoria de Comunicação Social | D9: HORA (sessões do Tribunal) | E9: 42 | F9: 205.2 | J9: ='PLANILHA DE PREÇOS'!K9 -> 185.97 | K9: =E9*F9 -> 8618.4
A10: VALOR DO GRUPO | K10: =SUM(K6:K9) -> 100958.4
A12: ITENS
A13: ITEM | B13: SERVIÇO | C13: UNIDADE RESPONSÁVEL | D13: UNIDADE | E13: QUANTIDADE ESTIMADA | F13: MÉDIA DE PREÇOS PÚBLICOS | G13: PREÇO 1 | H13: PREÇO 2 | I13: PREÇO 3 | J13: VALOR ESTIMADO UNITÁRIO | K13: VALOR ESTIMADO TOTAL
A14: 5 | B14: Tradução/Interpretação de libras pré-gravada | C14: Coordenadoria de Comunicação Social | D14: MINUTO | E14: 300 | F14: 12.17 | J14: ='PLANILHA DE PREÇOS'!K14 -> 47 | K14: =E14*J14 -> 14100
A15: 6 | B15: Audiodescrição – pré- gravada (audiovisual) | C15: Coordenadoria de Comunicação Social | D15: MINUTO | E15: 300 | J15: ='PLANILHA DE PREÇOS'!K15 -> 50 | K15: =E15*J15 -> 15000
A16: 7 | B16: Guia-intérprete | C16: Divisão de Cerimonial e Eventos | D16: HORA | E16: 4 | J16: ='PLANILHA DE PREÇOS'!K16 -> 222.19 | K16: =E16*J16 -> 888.76
A17: 8 | B17: Legendagem para surdos pré-gravada (audiovisual) | C17: Coordenadoria de Comunicação Social | D17: MINUTO | E17: 300 | F17: 12 | J17: ='PLANILHA DE PREÇOS'!K17 -> 27.333333 | K17: =E17*J17 -> 8200
A19: VALOR TOTAL (GRUPO + ITENS) | K19: =SUM(K10,K14:K17) -> 139147.16
A21: O quantitativo estimado é para um período de 12 (doze) meses. Dessa forma, a vigência inicial até 31.12.2026 deve considerar a proporcionalidade do quantitativo total.
A23: Data do orçamento estimado: 30 de julho de 2026
